BEGIN:VCALENDAR
VERSION:2.0
PRODID:-//Michigan Beans - ECPv6.7.0//NONSGML v1.0//EN
CALSCALE:GREGORIAN
METHOD:PUBLISH
X-WR-CALNAME:Michigan Beans
X-ORIGINAL-URL:https://michiganbean.com
X-WR-CALDESC:Events for Michigan Beans
REFRESH-INTERVAL;VALUE=DURATION:PT1H
X-Robots-Tag:noindex
X-PUBLISHED-TTL:PT1H
BEGIN:VTIMEZONE
TZID:America/Detroit
BEGIN:DAYLIGHT
TZOFFSETFROM:-0500
TZOFFSETTO:-0400
TZNAME:EDT
DTSTART:20240310T070000
END:DAYLIGHT
BEGIN:STANDARD
TZOFFSETFROM:-0400
TZOFFSETTO:-0500
TZNAME:EST
DTSTART:20241103T060000
END:STANDARD
END:VTIMEZONE
BEGIN:VEVENT
DTSTART;TZID=America/Detroit:20240828T180000
DTEND;TZID=America/Detroit:20240828T200000
DTSTAMP:20260423T061919
CREATED:20240724T183304Z
LAST-MODIFIED:20240724T183304Z
UID:10000212-1724868000-1724875200@michiganbean.com
SUMMARY:West Region Dry Bean Variety Research Plot Tour
DESCRIPTION:
URL:https://michiganbean.com/event/west-region-dry-bean-variety-research-plot-tour/
LOCATION:Thorlund Bros.- 2 miles NE of Greenville or 1/4 west of North Backus Road on the north side of Peck Road
ORGANIZER;CN="Michigan Bean Commission":MAILTO:jcramer@michiganbean.com
END:VEVENT
END:VCALENDAR